BEGIN:VCALENDAR
VERSION:2.0
PRODID:-//BLOK M SQUARE OFFICIAL WEBSITE - ECPv6.15.20//NONSGML v1.0//EN
CALSCALE:GREGORIAN
METHOD:PUBLISH
X-WR-CALNAME:BLOK M SQUARE OFFICIAL WEBSITE
X-ORIGINAL-URL:https://blokmsquare.co.id
X-WR-CALDESC:Events for BLOK M SQUARE OFFICIAL WEBSITE
REFRESH-INTERVAL;VALUE=DURATION:PT1H
X-Robots-Tag:noindex
X-PUBLISHED-TTL:PT1H
BEGIN:VTIMEZONE
TZID:Asia/Jakarta
BEGIN:STANDARD
TZOFFSETFROM:+0700
TZOFFSETTO:+0700
TZNAME:WIB
DTSTART:20230101T000000
END:STANDARD
END:VTIMEZONE
BEGIN:VEVENT
DTSTART;TZID=Asia/Jakarta:20241030T100000
DTEND;TZID=Asia/Jakarta:20241117T220000
DTSTAMP:20260420T152349
CREATED:20241227T043651Z
LAST-MODIFIED:20241227T043651Z
UID:9895-1730282400-1731880800@blokmsquare.co.id
SUMMARY:FYP Jajanan Fomo
DESCRIPTION:MERAPAT JAJANAN FOMO ADA DI SINI🌟✨ \nAkhirnya jajanan viral 2024 kumpul di event ini \nAkan ada banyak makanan dan minuman viral yang wajib kalian coba \nCatat tanggalnya yah jangan sampai ketinggalan🙌 \n🎪 FYP JAJANAN FOMO\n📢 30 Oktober – 17 November 2024\n📍 Teras Berlian Blok M Square\n⌚ 10.00 – 22.00 WIB \nTM Blok M Square\nPusat Belanja Keluarga \n#fyp #jajananfomo #fomo #eventblokmsquare #makananviral #food #blokmsquare #kulineran #FoodLovers #agungpodomoro #kulinerjakartaselatan #jakarta #viral #eventjaksel #kulinerblokmsquare
URL:https://blokmsquare.co.id/event/fyp-jajanan-fomo/
LOCATION:Teras Berlian 1-3\, Jl. Melawai 5\, RT.3/RW.1\, Melawai\, Kec. Kby. Baru\, Kota Jakarta Selatan\,\, Jakarta Selatan\, Jakarta\, 12160\, Indonesia
CATEGORIES:Event
ATTACH;FMTTYPE=image/jpeg:https://blokmsquare.co.id/wp-content/uploads/2024/12/FYP-Jajanan-Fomo-Blok-M-Square.jpg
END:VEVENT
BEGIN:VEVENT
DTSTART;TZID=Asia/Jakarta:20241120T100000
DTEND;TZID=Asia/Jakarta:20241201T220000
DTSTAMP:20260420T152349
CREATED:20241227T073944Z
LAST-MODIFIED:20241227T074252Z
UID:9898-1732096800-1733090400@blokmsquare.co.id
SUMMARY:Grill & Fried Eatventure
DESCRIPTION:YEAAYYY EVENT KULINER GRILL & FRIED EATVENTURE ADA DI SINI!🤩🎉 \nPecinta kuliner merapat ke sini yuk karena banyak tenant makanan enak-enak nih \nDimana lagi kalo bukan di BLOK M SQUARE \nJangan sampai ketinggalan yaahh \n🎪 GRILL & FRIED EATVENTURE\n📢 20 Nov – 1 Dec 2024\n📍 Teras Berlian Blok M Square\n⌚ 10.00 – 22.00 WIB \nTM Blok M Square\nPusat Belanja Keluarga \n#eatventure #grillandfriedeatventure #kulinerjakarta #eventblokmsquare #makananviral #food #blokmsquare #kulineran #FoodLovers #agungpodomoro #kulinerjakartaselatan #jakarta #viral #eventjaksel #kulinerblokmsquare
URL:https://blokmsquare.co.id/event/grill-fried-eatventure/
LOCATION:Teras Berlian 1-3\, Jl. Melawai 5\, RT.3/RW.1\, Melawai\, Kec. Kby. Baru\, Kota Jakarta Selatan\,\, Jakarta Selatan\, Jakarta\, 12160\, Indonesia
CATEGORIES:Event
END:VEVENT
END:VCALENDAR