BEGIN:VCALENDAR
VERSION:2.0
PRODID:-//BLOK M SQUARE OFFICIAL WEBSITE - ECPv6.15.20//NONSGML v1.0//EN
CALSCALE:GREGORIAN
METHOD:PUBLISH
X-ORIGINAL-URL:https://blokmsquare.co.id
X-WR-CALDESC:Events for BLOK M SQUARE OFFICIAL WEBSITE
REFRESH-INTERVAL;VALUE=DURATION:PT1H
X-Robots-Tag:noindex
X-PUBLISHED-TTL:PT1H
BEGIN:VTIMEZONE
TZID:Asia/Jakarta
BEGIN:STANDARD
TZOFFSETFROM:+0700
TZOFFSETTO:+0700
TZNAME:WIB
DTSTART:20240101T000000
END:STANDARD
END:VTIMEZONE
BEGIN:VEVENT
DTSTART;TZID=Asia/Jakarta:20250813T100000
DTEND;TZID=Asia/Jakarta:20250831T220000
DTSTAMP:20260423T153501
CREATED:20250813T041430Z
LAST-MODIFIED:20250813T041431Z
UID:11391-1755079200-1756677600@blokmsquare.co.id
SUMMARY:Alor Food Market
DESCRIPTION:SIAP-SIAP ALOR FOOD MARKET HADIR DI BLOK M SQUARE🎉✨ \nEvent kuliner terbesar kali ini menghadirkan streetfood Malaysia \nBerbagai macam makanan khas Malaysia ada di sini \nSave dan share postingan ini yaa biar ngga ketinggalan☺️ \n#streetfoodmalaysia #foodfest #alorfoodmarket #eventblokm #blokmsquare #kulinerviral #malaysia
URL:https://blokmsquare.co.id/event/alor-food-market/
LOCATION:Teras Berlian 1-3\, Jl. Melawai 5\, RT.3/RW.1\, Melawai\, Kec. Kby. Baru\, Kota Jakarta Selatan\,\, Jakarta Selatan\, Jakarta\, 12160\, Indonesia
CATEGORIES:Event
ATTACH;FMTTYPE=image/jpeg:https://blokmsquare.co.id/wp-content/uploads/2025/08/kv-igp-versi-2-01-scaled.jpg
END:VEVENT
END:VCALENDAR